BEGIN:VCALENDAR
VERSION:2.0
PRODID:-//Stadtführungen - Museumsführungen - Reiseleitungen - ECPv6.15.20//NONSGML v1.0//EN
CALSCALE:GREGORIAN
METHOD:PUBLISH
X-ORIGINAL-URL:https://www.chemnitz.guide
X-WR-CALDESC:Veranstaltungen für Stadtführungen - Museumsführungen - Reiseleitungen
REFRESH-INTERVAL;VALUE=DURATION:PT1H
X-Robots-Tag:noindex
X-PUBLISHED-TTL:PT1H
BEGIN:VTIMEZONE
TZID:Europe/Berlin
BEGIN:DAYLIGHT
TZOFFSETFROM:+0100
TZOFFSETTO:+0200
TZNAME:CEST
DTSTART:20240331T010000
END:DAYLIGHT
BEGIN:STANDARD
TZOFFSETFROM:+0200
TZOFFSETTO:+0100
TZNAME:CET
DTSTART:20241027T010000
END:STANDARD
BEGIN:DAYLIGHT
TZOFFSETFROM:+0100
TZOFFSETTO:+0200
TZNAME:CEST
DTSTART:20250330T010000
END:DAYLIGHT
BEGIN:STANDARD
TZOFFSETFROM:+0200
TZOFFSETTO:+0100
TZNAME:CET
DTSTART:20251026T010000
END:STANDARD
BEGIN:DAYLIGHT
TZOFFSETFROM:+0100
TZOFFSETTO:+0200
TZNAME:CEST
DTSTART:20260329T010000
END:DAYLIGHT
BEGIN:STANDARD
TZOFFSETFROM:+0200
TZOFFSETTO:+0100
TZNAME:CET
DTSTART:20261025T010000
END:STANDARD
END:VTIMEZONE
BEGIN:VEVENT
DTSTART;TZID=Europe/Berlin:20250503T130000
DTEND;TZID=Europe/Berlin:20250503T140000
DTSTAMP:20260420T093737
CREATED:20250422T152129Z
LAST-MODIFIED:20250521T121839Z
UID:10000175-1746277200-1746280800@www.chemnitz.guide
SUMMARY:Guided Tour - Beyond geometry. Frei Otto × Kengo Kuma
DESCRIPTION:Guided Tour through the special exhibition „Beyond geometry. Frei Otto × Kengo Kuma“ und „Schneeberger Gelfecht“ held in english.
URL:https://www.chemnitz.guide/event/guided-tour-beyond-geometry-frei-otto-x-kengo-kuma/2025-05-03/
LOCATION:Kunstsammlungen Chemnitz
END:VEVENT
BEGIN:VEVENT
DTSTART;TZID=Europe/Berlin:20250503T143000
DTEND;TZID=Europe/Berlin:20250503T153000
DTSTAMP:20260420T093737
CREATED:20250422T151514Z
LAST-MODIFIED:20250702T150845Z
UID:10000170-1746282600-1746286200@www.chemnitz.guide
SUMMARY:European Realities - Museum Gunzenhauser
DESCRIPTION:Öffentliche Führung durch die Sonderausstellung „European Realities“.
URL:https://www.chemnitz.guide/event/european-realities-museum-gunzenhauser/2025-05-03/
LOCATION:Museum Gunzenhauser\, Stollberger Str. 2\, Chemnitz\, Sachsen\, 09112\, Deutschland
END:VEVENT
BEGIN:VEVENT
DTSTART;TZID=Europe/Berlin:20250503T160000
DTEND;TZID=Europe/Berlin:20250503T170000
DTSTAMP:20260420T093737
CREATED:20250422T151843Z
LAST-MODIFIED:20250521T122115Z
UID:10000172-1746288000-1746291600@www.chemnitz.guide
SUMMARY:Beyond geometry. Frei Otto × Kengo Kuma
DESCRIPTION:Öffentliche Führung durch die Sonderausstellung „Beyond geometry. Frei Otto × Kengo Kuma“ und „Schneeberger Geflecht“ in den Kunstsammlungen am Theaterplatz.
URL:https://www.chemnitz.guide/event/beyond-geometry-frei-otto-x-kengo-kuma/2025-05-03/
LOCATION:Kunstsammlungen Chemnitz
END:VEVENT
END:VCALENDAR