BEGIN:VCALENDAR
VERSION:2.0
PRODID:-//Stadtführungen - Museumsführungen - Reiseleitungen - ECPv6.15.20//NONSGML v1.0//EN
CALSCALE:GREGORIAN
METHOD:PUBLISH
X-ORIGINAL-URL:https://www.chemnitz.guide
X-WR-CALDESC:Veranstaltungen für Stadtführungen - Museumsführungen - Reiseleitungen
REFRESH-INTERVAL;VALUE=DURATION:PT1H
X-Robots-Tag:noindex
X-PUBLISHED-TTL:PT1H
BEGIN:VTIMEZONE
TZID:Europe/Berlin
BEGIN:DAYLIGHT
TZOFFSETFROM:+0100
TZOFFSETTO:+0200
TZNAME:CEST
DTSTART:20240331T010000
END:DAYLIGHT
BEGIN:STANDARD
TZOFFSETFROM:+0200
TZOFFSETTO:+0100
TZNAME:CET
DTSTART:20241027T010000
END:STANDARD
BEGIN:DAYLIGHT
TZOFFSETFROM:+0100
TZOFFSETTO:+0200
TZNAME:CEST
DTSTART:20250330T010000
END:DAYLIGHT
BEGIN:STANDARD
TZOFFSETFROM:+0200
TZOFFSETTO:+0100
TZNAME:CET
DTSTART:20251026T010000
END:STANDARD
BEGIN:DAYLIGHT
TZOFFSETFROM:+0100
TZOFFSETTO:+0200
TZNAME:CEST
DTSTART:20260329T010000
END:DAYLIGHT
BEGIN:STANDARD
TZOFFSETFROM:+0200
TZOFFSETTO:+0100
TZNAME:CET
DTSTART:20261025T010000
END:STANDARD
END:VTIMEZONE
BEGIN:VEVENT
DTSTART;TZID=Europe/Berlin:20250503T130000
DTEND;TZID=Europe/Berlin:20250503T140000
DTSTAMP:20260420T130316
CREATED:20250422T152129Z
LAST-MODIFIED:20250521T121839Z
UID:10000175-1746277200-1746280800@www.chemnitz.guide
SUMMARY:Guided Tour - Beyond geometry. Frei Otto × Kengo Kuma
DESCRIPTION:Guided Tour through the special exhibition „Beyond geometry. Frei Otto × Kengo Kuma“ und „Schneeberger Gelfecht“ held in english.
URL:https://www.chemnitz.guide/event/guided-tour-beyond-geometry-frei-otto-x-kengo-kuma/2025-05-03/
LOCATION:Kunstsammlungen Chemnitz
END:VEVENT
BEGIN:VEVENT
DTSTART;TZID=Europe/Berlin:20250503T143000
DTEND;TZID=Europe/Berlin:20250503T153000
DTSTAMP:20260420T130316
CREATED:20250422T151514Z
LAST-MODIFIED:20250702T150845Z
UID:10000170-1746282600-1746286200@www.chemnitz.guide
SUMMARY:European Realities - Museum Gunzenhauser
DESCRIPTION:Öffentliche Führung durch die Sonderausstellung „European Realities“.
URL:https://www.chemnitz.guide/event/european-realities-museum-gunzenhauser/2025-05-03/
LOCATION:Museum Gunzenhauser\, Stollberger Str. 2\, Chemnitz\, Sachsen\, 09112\, Deutschland
END:VEVENT
BEGIN:VEVENT
DTSTART;TZID=Europe/Berlin:20250503T160000
DTEND;TZID=Europe/Berlin:20250503T170000
DTSTAMP:20260420T130316
CREATED:20250422T151843Z
LAST-MODIFIED:20250521T122115Z
UID:10000172-1746288000-1746291600@www.chemnitz.guide
SUMMARY:Beyond geometry. Frei Otto × Kengo Kuma
DESCRIPTION:Öffentliche Führung durch die Sonderausstellung „Beyond geometry. Frei Otto × Kengo Kuma“ und „Schneeberger Geflecht“ in den Kunstsammlungen am Theaterplatz.
URL:https://www.chemnitz.guide/event/beyond-geometry-frei-otto-x-kengo-kuma/2025-05-03/
LOCATION:Kunstsammlungen Chemnitz
END:VEVENT
BEGIN:VEVENT
DTSTART;TZID=Europe/Berlin:20250504T143000
DTEND;TZID=Europe/Berlin:20250504T153000
DTSTAMP:20260420T130316
CREATED:20250422T151843Z
LAST-MODIFIED:20250521T122115Z
UID:10000173-1746369000-1746372600@www.chemnitz.guide
SUMMARY:Beyond geometry. Frei Otto × Kengo Kuma
DESCRIPTION:Öffentliche Führung durch die Sonderausstellung „Beyond geometry. Frei Otto × Kengo Kuma“ und „Schneeberger Geflecht“ in den Kunstsammlungen am Theaterplatz.
URL:https://www.chemnitz.guide/event/beyond-geometry-frei-otto-x-kengo-kuma/2025-05-04/
LOCATION:Kunstsammlungen Chemnitz
END:VEVENT
BEGIN:VEVENT
DTSTART;TZID=Europe/Berlin:20250510T130000
DTEND;TZID=Europe/Berlin:20250510T140000
DTSTAMP:20260420T130316
CREATED:20250422T152334Z
LAST-MODIFIED:20250702T150730Z
UID:10000176-1746882000-1746885600@www.chemnitz.guide
SUMMARY:Guided Tour - European Realities
DESCRIPTION:Guided Tour through the special exhibition „European Realities“ held in english.
URL:https://www.chemnitz.guide/event/guided-tour-european-realities/2025-05-10/
LOCATION:Museum Gunzenhauser\, Stollberger Str. 2\, Chemnitz\, Sachsen\, 09112\, Deutschland
END:VEVENT
BEGIN:VEVENT
DTSTART;TZID=Europe/Berlin:20250510T183000
DTEND;TZID=Europe/Berlin:20250510T193000
DTSTAMP:20260420T130316
CREATED:20240430T054106Z
LAST-MODIFIED:20250422T150909Z
UID:10000118-1746901800-1746905400@www.chemnitz.guide
SUMMARY:Guided Tour Wasserschloß Klaffenbach (Museum Night)
DESCRIPTION:A Guided Tour through the Wasserschloß Klaffenbach held in English.  The tour is free as it is a part of the night of the museums in Chemnitz 2025. \nFor more information visit the website of the city of chemnitz.
URL:https://www.chemnitz.guide/event/guided-tour-wasserschloss-klaffenbach-museum-night/
LOCATION:Wasserschloß Klaffenbach\, Wasserschloßweg 6\, Chemnitz\, Sachsen\, 09123\, Deutschland
END:VEVENT
BEGIN:VEVENT
DTSTART;TZID=Europe/Berlin:20250510T200000
DTEND;TZID=Europe/Berlin:20250510T210000
DTSTAMP:20260420T130316
CREATED:20240426T060529Z
LAST-MODIFIED:20250422T151026Z
UID:10000168-1746907200-1746910800@www.chemnitz.guide
SUMMARY:Guided Tour Museum Gunzenhauser (Museum Night)
DESCRIPTION:A Guided Tour through the Museum Gunzenhauser held in English.  The tour is free as it is a part of the night of the museums in Chemnitz 2025. \nFor more information visit the website of the city of chemnitz.
URL:https://www.chemnitz.guide/event/guided-tour-museum-gunzenhauser-museum-night/2025-05-10/1/
LOCATION:Sachsen
END:VEVENT
BEGIN:VEVENT
DTSTART;TZID=Europe/Berlin:20250510T210000
DTEND;TZID=Europe/Berlin:20250510T220000
DTSTAMP:20260420T130316
CREATED:20240426T060529Z
LAST-MODIFIED:20250422T151026Z
UID:10000169-1746910800-1746914400@www.chemnitz.guide
SUMMARY:Guided Tour Museum Gunzenhauser (Museum Night)
DESCRIPTION:A Guided Tour through the Museum Gunzenhauser held in English.  The tour is free as it is a part of the night of the museums in Chemnitz 2025. \nFor more information visit the website of the city of chemnitz.
URL:https://www.chemnitz.guide/event/guided-tour-museum-gunzenhauser-museum-night/2025-05-10/2/
LOCATION:Sachsen
END:VEVENT
BEGIN:VEVENT
DTSTART;TZID=Europe/Berlin:20250511T143000
DTEND;TZID=Europe/Berlin:20250511T153000
DTSTAMP:20260420T130316
CREATED:20250422T151843Z
LAST-MODIFIED:20250521T122115Z
UID:10000174-1746973800-1746977400@www.chemnitz.guide
SUMMARY:Beyond geometry. Frei Otto × Kengo Kuma
DESCRIPTION:Öffentliche Führung durch die Sonderausstellung „Beyond geometry. Frei Otto × Kengo Kuma“ und „Schneeberger Geflecht“ in den Kunstsammlungen am Theaterplatz.
URL:https://www.chemnitz.guide/event/beyond-geometry-frei-otto-x-kengo-kuma/2025-05-11/
LOCATION:Kunstsammlungen Chemnitz
END:VEVENT
BEGIN:VEVENT
DTSTART;TZID=Europe/Berlin:20250513T170000
DTEND;TZID=Europe/Berlin:20250513T193000
DTSTAMP:20260420T130316
CREATED:20240430T055731Z
LAST-MODIFIED:20251210T110332Z
UID:10000142-1747155600-1747164600@www.chemnitz.guide
SUMMARY:Historische Stadionführung
DESCRIPTION:Öffentliche Führung durch das Stadion an der Gellertstraße. Das Stadion wurde am 13.05.1934 mit einem Freundschaftsspiel des PSV Chemnitz gegen die SpVgg Fürth eröffnet\, welches der PSV Chemnitz mit 5:1 gewann. Zum 91-Jährigen Jubiläum wird diese spezielle Führung die historischen Hintergründe besonders beleuchten!
URL:https://www.chemnitz.guide/event/historische-stadionfuehrung/2025-05-13/
LOCATION:Stadion an der Gellertstraße\, Gellertstraße 25\, Chemnitz\, Sachsen\, 09130\, Deutschland
END:VEVENT
END:VCALENDAR